BEGIN:VCALENDAR
VERSION:2.0
PRODID:-//Sea Gate - ECPv6.15.11//NONSGML v1.0//EN
CALSCALE:GREGORIAN
METHOD:PUBLISH
X-ORIGINAL-URL:https://seagatebrooklyn.com
X-WR-CALDESC:Events for Sea Gate
REFRESH-INTERVAL;VALUE=DURATION:PT1H
X-Robots-Tag:noindex
X-PUBLISHED-TTL:PT1H
BEGIN:VTIMEZONE
TZID:UTC
BEGIN:STANDARD
TZOFFSETFROM:+0000
TZOFFSETTO:+0000
TZNAME:UTC
DTSTART:20170101T000000
END:STANDARD
END:VTIMEZONE
BEGIN:VEVENT
DTSTART;TZID=UTC:20181222T130000
DTEND;TZID=UTC:20181222T150000
DTSTAMP:20260419T135747
CREATED:20181218T141014Z
LAST-MODIFIED:20181218T141032Z
UID:1584-1545483600-1545490800@seagatebrooklyn.com
SUMMARY:Holiday in Kaiser Park
DESCRIPTION:
URL:https://seagatebrooklyn.com/event/holiday-in-kaiser-park/
END:VEVENT
BEGIN:VEVENT
DTSTART;TZID=UTC:20181221T090000
DTEND;TZID=UTC:20181221T150000
DTSTAMP:20260419T135747
CREATED:20181217T153515Z
LAST-MODIFIED:20181217T153515Z
UID:1579-1545382800-1545404400@seagatebrooklyn.com
SUMMARY:Office Closes at 3pm
DESCRIPTION:Today\, Friday\, December 21\, 2018\, the Sea Gate Association Office will close at 3pm.
URL:https://seagatebrooklyn.com/event/office-closes-at-3pm/
END:VEVENT
BEGIN:VEVENT
DTSTART;TZID=UTC:20181210T200000
DTEND;TZID=UTC:20181210T213000
DTSTAMP:20260419T135747
CREATED:20181116T152931Z
LAST-MODIFIED:20181210T174001Z
UID:1549-1544472000-1544477400@seagatebrooklyn.com
SUMMARY:Homeowners: Annual Budget Meeting
DESCRIPTION:  \nThe Sea Gate Board of Directors invites you to attend: \nThe Annual Sea Gate Community Budget Meeting \n  \nThe Board of Directors urges all Homeowners to attend this meeting. The Sea Gate Board will be on hand\, along with the Accountant\, to discuss the proposed budget for Fiscal Year 2019. \nThe Annual Budget Meeting will be held on Monday\, December 10\, 2018 at 8pm  at the Nova Athletic Center (3701 Surf Ave – Dance Room). \nSEA GATE ANNUAL BUDGET MEETING \nMON\, DEC. 10\, 2018 \n8pm \nNova Athletic Center \nDance Room – 3701 Surf Ave. \n  \n 
URL:https://seagatebrooklyn.com/event/homeowners-annual-budget-meeting/
LOCATION:Jewish Community Council\, 3001 W37th Street\, Brooklyn\, NY\, 11224\, United States
END:VEVENT
BEGIN:VEVENT
DTSTART;TZID=UTC:20181127T180000
DTEND;TZID=UTC:20181127T190000
DTSTAMP:20260419T135747
CREATED:20181108T202026Z
LAST-MODIFIED:20181108T202041Z
UID:1545-1543341600-1543345200@seagatebrooklyn.com
SUMMARY:COAD: Flooding Problems in the Coney Island Area
DESCRIPTION:What:\n“Flooding Problem in the Coney Island Area” \nWhen/Where: \nTuesday\, November 27th at 6:00pm at P.S.188 \nCommunity Board #13 and Council Member Mark Treyger present a meeting featuring guest Speaker Vincent Sapienza\, NYC Department of Environment Protection Commissioner.
URL:https://seagatebrooklyn.com/event/coad-flooding-problems-in-the-coney-island-area/
END:VEVENT
BEGIN:VEVENT
DTSTART;TZID=UTC:20181122T100000
DTEND;TZID=UTC:20181122T160000
DTSTAMP:20260419T135747
CREATED:20181120T200217Z
LAST-MODIFIED:20181120T200237Z
UID:1556-1542880800-1542902400@seagatebrooklyn.com
SUMMARY:Coney Island Hosts Free Thanksgiving Day Feast For The Community
DESCRIPTION:On Thursday\, November 22nd\, the Alliance for Coney Island other local businesses and Councilman Treyger will host the Annual Community Thanksgiving Feast at the Coney Island Gospel Assembly.  Last year\, the feast helped over 1\,000 guests enjoy a traditional Thanksgiving meal\, including homeless men\, women and children\, low income families\, homebound residents and members of the community.  The Coney Island Gospel Assembly has been serving the community a Thanksgiving feast for more than 20 years and serves as a beacon of hope for those in need. This year’s initiative\, led by Luna Park amusement park and Gargiulo’s Restaurant\, provides an opportunity for local businesses and residents to become more engaged in their community and help those in need during the holiday season. \n  \nThe Coney Island Gospel Assembly\, with support from the Alliance for Coney Island\, A & J Produce\, Brooklyn Cyclones\, Cammareri Bakery\, Councilman Mark Treyger\, Deno’s Wonder Wheel\, Gargiulo’s Restaurant\, iStar\, Kings Highway Bakery\, Luna Park\, MAS Security\, Mr and Mrs. Manny Garofalo\, MTM Fuel Service\,  Nathan’s Famous\, Live Nation\, New York Aquarium and Tom’s Coney Island will provide a hot traditional Thanksgiving meal consisting of turkey\, stuffing\, potatoes\, dessert and more at Coney Island Gospel Assembly (2828 Neptune Avenue)  from noon to 5PM. \n  \n“We are proud to collaborate with local businesses and Councilman Treyger to be able to provide community members in need with a delicious meal\, allowing all to enjoy Thanksgiving. This meal truly couldn’t come to fruition without the dedication and vision of Gargiulo’s Restaurant and Luna Park.  We especially thank Pastor Connie Hulla and Coney Island Gospel Assembly for hosting this meal and serving the community for decades\,” said Alexandra Silversmith\, Executive Director of the Alliance for Coney Island. \n  \n“We are committed to serving the Coney Island community in as many ways as possible. Providing Thanksgiving meals to our neighbors who need it is one way we can give back to the people of this vibrant community\, ”said Alessandro Zamperla\, President of Luna Park. \n“We are proud to come together with our neighbors to provide a Thanksgiving meal for those in our community who are in need\,” said Nino Russo\, Co-Owner of Gargiulo’s Restaurant. \n  \nAll those in need are welcome to join us on Thanksgiving Day for the feast. \n  \nTo learn more information about the Alliance for Coney Island and our initiatives\, call us at 718-594-7895 or visit us online at www.allianceforconeyisland.org \n 
URL:https://seagatebrooklyn.com/event/coney-island-hosts-free-thanksgiving-day-feast-for-the-community/
END:VEVENT
BEGIN:VEVENT
DTSTART;TZID=UTC:20181121T120000
DTEND;TZID=UTC:20181121T160000
DTSTAMP:20260419T135747
CREATED:20181120T195250Z
LAST-MODIFIED:20181120T195250Z
UID:1553-1542801600-1542816000@seagatebrooklyn.com
SUMMARY:Seagate Ave - Street Sweeping
DESCRIPTION:Please be advised that on Wed\, Nov 21 from 12p to 4p\, Seagate Ave will be cleaned to prep for paving. This will occur between Poplar and Lyme Avenues. Please do NOT parking on the street during the hours.
URL:https://seagatebrooklyn.com/event/seagate-ave-street-sweeping/
END:VEVENT
BEGIN:VEVENT
DTSTART;TZID=UTC:20181114T180000
DTEND;TZID=UTC:20181114T200000
DTSTAMP:20260419T135747
CREATED:20181108T201907Z
LAST-MODIFIED:20181108T201907Z
UID:1543-1542218400-1542225600@seagatebrooklyn.com
SUMMARY:COAD: Help For Homeowners Event in Coney Island
DESCRIPTION:What:\n“Help for Homeowners Event in Coney Island” \nWhen/Where: \nWednesday\, November 14th from 6:00pm – 8:00pm at Coney Island YMCA \nFree seminar from NHS Brooklyn to learn about FloodHelpNY\, a program for homeowners with properties along Brooklyn’s coastal neighborhoods that provides over $800 worth of resources at no cost\, including a free Elevation Certificate to control the cost of flood insurance and free back flow valves.
URL:https://seagatebrooklyn.com/event/coad-help-for-homeowners-event-in-coney-island/
END:VEVENT
BEGIN:VEVENT
DTSTART;TZID=UTC:20181114T180000
DTEND;TZID=UTC:20181114T200000
DTSTAMP:20260419T135747
CREATED:20181105T141414Z
LAST-MODIFIED:20181105T141414Z
UID:1513-1542218400-1542225600@seagatebrooklyn.com
SUMMARY:Help For Homeowners Event - NHSBrooklyn
DESCRIPTION:
URL:https://seagatebrooklyn.com/event/help-for-homeowners-event-nhsbrooklyn/
LOCATION:Coney Island YMCA\, 2980 West 29th Street\, Brooklyn\, NY\, 11224\, United States
END:VEVENT
BEGIN:VEVENT
DTSTART;TZID=UTC:20181113T090000
DTEND;TZID=UTC:20181113T170000
DTSTAMP:20260419T135747
CREATED:20181108T201746Z
LAST-MODIFIED:20181108T201757Z
UID:1540-1542099600-1542128400@seagatebrooklyn.com
SUMMARY:COAD: Community Preparedness Bootcamp
DESCRIPTION:What:\n“Community Preparedness Boot Camp”When/Where: \nTuesday\, November 13th from 9:00am – 5:00pm at Bensonhurst Center for Rehabilitation & Healthcare  \nA free one day training from New York City Emergency Management for community leaders interested in creating an emergency plan for their community. Learn how to develop an emergency plan and make your community more resilient; increase your knowledge about community and government emergency planning and response; and provide opportunities to make new connections and start building a community emergency network. \nhttps://nycem.samaritan.com/communityprep/?utm_source=Southern+Brooklyn+COAD+Newsletter&utm_campaign=baa16c944b-EMAIL_CAMPAIGN_2018_09_14_04_11_COPY_01&utm_medium=email&utm_term=0_ae98222216-baa16c944b-247859769#/opp_details/%7B6478D610-A026-42D8-910A-3A25A66368AF%7D
URL:https://seagatebrooklyn.com/event/coad-community-preparedness-bootcamp/
END:VEVENT
BEGIN:VEVENT
DTSTART;TZID=UTC:20181110T170000
DTEND;TZID=UTC:20181110T210000
DTSTAMP:20260419T135747
CREATED:20181107T193151Z
LAST-MODIFIED:20181107T193210Z
UID:1528-1541869200-1541883600@seagatebrooklyn.com
SUMMARY:DRIVE IN MOVIE @ NY AQUARIUM
DESCRIPTION:
URL:https://seagatebrooklyn.com/event/drive-in-movie-ny-aquarium/
LOCATION:NY Aquarium\, 602 Surf Avenue\, Brooklyn\, 11224\, United States
END:VEVENT
BEGIN:VEVENT
DTSTART;TZID=UTC:20181108T130000
DTEND;TZID=UTC:20181108T150000
DTSTAMP:20260419T135747
CREATED:20181107T193409Z
LAST-MODIFIED:20181107T193426Z
UID:1532-1541682000-1541689200@seagatebrooklyn.com
SUMMARY:Build The Block Meeting 1pm
DESCRIPTION:
URL:https://seagatebrooklyn.com/event/build-the-block-meeting-1pm/
LOCATION:Trump Village West\, 2942 West 5th St\, Brooklyn\, NY\, 11224\, United States
END:VEVENT
BEGIN:VEVENT
DTSTART;TZID=UTC:20181107T180000
DTEND;TZID=UTC:20181107T200000
DTSTAMP:20260419T135747
CREATED:20181105T141545Z
LAST-MODIFIED:20181105T141545Z
UID:1517-1541613600-1541620800@seagatebrooklyn.com
SUMMARY:Housing Lottery Workshop - NHSBrooklyn
DESCRIPTION:
URL:https://seagatebrooklyn.com/event/housing-lottery-workshop-nhsbrooklyn/
LOCATION:Coney Island YMCA\, 2980 West 29th Street\, Brooklyn\, NY\, 11224\, United States
END:VEVENT
BEGIN:VEVENT
DTSTART;TZID=UTC:20181105T070000
DTEND;TZID=UTC:20181109T160000
DTSTAMP:20260419T135747
CREATED:20181105T141707Z
LAST-MODIFIED:20181105T141707Z
UID:1520-1541401200-1541779200@seagatebrooklyn.com
SUMMARY:Construction Advisory - Coney Island Phase 3B
DESCRIPTION:
URL:https://seagatebrooklyn.com/event/construction-advisory-coney-island-phase-3b/
END:VEVENT
BEGIN:VEVENT
DTSTART;VALUE=DATE:20181105
DTEND;VALUE=DATE:20181106
DTSTAMP:20260419T135747
CREATED:20181105T141826Z
LAST-MODIFIED:20181105T162541Z
UID:1524-1541376000-1541462399@seagatebrooklyn.com
SUMMARY:Community Advisory: Restricted Parking
DESCRIPTION:
URL:https://seagatebrooklyn.com/event/community-advisory-restricted-parking/
END:VEVENT
BEGIN:VEVENT
DTSTART;TZID=UTC:20181031T170000
DTEND;TZID=UTC:20181031T200000
DTSTAMP:20260419T135747
CREATED:20181016T134517Z
LAST-MODIFIED:20181016T134517Z
UID:1494-1541005200-1541016000@seagatebrooklyn.com
SUMMARY:Sea Gate Halloween Event 5p
DESCRIPTION:
URL:https://seagatebrooklyn.com/event/sea-gate-halloween-event-5p/
END:VEVENT
BEGIN:VEVENT
DTSTART;TZID=UTC:20181030T160000
DTEND;TZID=UTC:20181030T183000
DTSTAMP:20260419T135747
CREATED:20181026T191101Z
LAST-MODIFIED:20181026T191101Z
UID:1503-1540915200-1540924200@seagatebrooklyn.com
SUMMARY:9th Annual Children's Parade
DESCRIPTION:
URL:https://seagatebrooklyn.com/event/9th-annual-childrens-parade/
END:VEVENT
BEGIN:VEVENT
DTSTART;VALUE=DATE:20181021
DTEND;VALUE=DATE:20181022
DTSTAMP:20260419T135747
CREATED:20181018T152639Z
LAST-MODIFIED:20181018T152701Z
UID:1498-1540080000-1540166399@seagatebrooklyn.com
SUMMARY:DISCOUNT DAY @ MAKING STRIDES PARTICIPANTS
DESCRIPTION:
URL:https://seagatebrooklyn.com/event/discount-day-making-strides-participants/
END:VEVENT
BEGIN:VEVENT
DTSTART;TZID=UTC:20181018T090000
DTEND;TZID=UTC:20181018T160000
DTSTAMP:20260419T135747
CREATED:20181012T155927Z
LAST-MODIFIED:20181012T155927Z
UID:1484-1539853200-1539878400@seagatebrooklyn.com
SUMMARY:Office closed at 4pm
DESCRIPTION:Office hours for Thursday\, October 18\, 2018 will be from 9a-1p and 2p-4p. We apologize for any inconvenience. For emergencies\, please contact the Sea Gate Police Department at (718)449-4400.
URL:https://seagatebrooklyn.com/event/office-closed-at-4pm/
END:VEVENT
BEGIN:VEVENT
DTSTART;TZID=UTC:20181016T090000
DTEND;TZID=UTC:20181016T160000
DTSTAMP:20260419T135747
CREATED:20181012T155839Z
LAST-MODIFIED:20181012T155839Z
UID:1482-1539680400-1539705600@seagatebrooklyn.com
SUMMARY:OFFICE CLOSES AT 4PM
DESCRIPTION:Office hours for Tuesday\, October 16\, 2018 will be from 9a-1p and 2p-4p. We apologize for any inconvenience. For emergencies\, please contact the Sea Gate Police Department at (718)449-4400.
URL:https://seagatebrooklyn.com/event/office-closes-at-4pm/
END:VEVENT
BEGIN:VEVENT
DTSTART;TZID=UTC:20181014T090000
DTEND;TZID=UTC:20181014T160000
DTSTAMP:20260419T135747
CREATED:20181012T190306Z
LAST-MODIFIED:20181012T190306Z
UID:1486-1539507600-1539532800@seagatebrooklyn.com
SUMMARY:Partial Street Closure: Ride To Live event
DESCRIPTION:It has come to our attention that this Sunday\, October 14\, 2018 there is the 11th Annual Ride To Live event to support Breast Cancer Awareness from 9AM-4PM.   \nWe found out that there will be a motorcycle scenic ride to MCU Park.  There will be partial closure of traffic along the parade route to MCU Park.  From 1PM-2PM\, there will partial closure along Ocean Parkway turning onto Neptune Avenue then turning onto West 21 Street.   \nPlease be aware of this parade route and make appropriate adjustment during this time.
URL:https://seagatebrooklyn.com/event/partial-street-closure-ride-to-live-event/
END:VEVENT
BEGIN:VEVENT
DTSTART;TZID=UTC:20181010T180000
DTEND;TZID=UTC:20181010T200000
DTSTAMP:20260419T135747
CREATED:20181004T124522Z
LAST-MODIFIED:20181004T124522Z
UID:1464-1539194400-1539201600@seagatebrooklyn.com
SUMMARY:COMMUNITY INFORMATION RESOURCE NIGHT
DESCRIPTION:
URL:https://seagatebrooklyn.com/event/community-information-resource-night/
END:VEVENT
BEGIN:VEVENT
DTSTART;TZID=UTC:20181008T200000
DTEND;TZID=UTC:20181008T220000
DTSTAMP:20260419T135747
CREATED:20180912T141614Z
LAST-MODIFIED:20180912T141614Z
UID:1432-1539028800-1539036000@seagatebrooklyn.com
SUMMARY:HOMEOWNER: ANNUAL MEETING 8PM
DESCRIPTION:DEAR HOMEOWNERS: \nPLEASE JOIN THE SEA GATE ASSOCIATION BOARD OF DIRECTORS FOR THE ANNUAL 2018 BOARD MEETING. \nWHEN: 8PM\, MONDAY\, OCTOBER 8\, 2018 \nWHERE: NOVA ATHLETIC CENTER (DANCE ROOM)\, 3701 SURF AVENUE\, BROOKLYN\, NY 11224
URL:https://seagatebrooklyn.com/event/homeowner-annual-meeting-8pm/
LOCATION:Nova Athletic Center\, 3701 Surf Avenue\, Brooklyn\, NY\, 11224\, United States
END:VEVENT
BEGIN:VEVENT
DTSTART;VALUE=DATE:20181008
DTEND;VALUE=DATE:20181013
DTSTAMP:20260419T135747
CREATED:20181005T190654Z
LAST-MODIFIED:20181005T190701Z
UID:1472-1538956800-1539388799@seagatebrooklyn.com
SUMMARY:Weekday MTA Service Changes
DESCRIPTION:
URL:https://seagatebrooklyn.com/event/weekday-mta-service-changes/
END:VEVENT
BEGIN:VEVENT
DTSTART;VALUE=DATE:20180930
DTEND;VALUE=DATE:20181001
DTSTAMP:20260419T135747
CREATED:20180608T193050Z
LAST-MODIFIED:20180608T193050Z
UID:1218-1538265600-1538351999@seagatebrooklyn.com
SUMMARY:VEHICLE PASSES AND OVERNIGHT PARKING PERMITS EXPIRE
DESCRIPTION:PLEASE BE ADVISED THAT YOUR 2018 VEHICLE ACCESS AND OVERNIGHT PARKING PERMITS EXPIRE TODAY. \nIF YOU HAVE NOT RENEWED\, YOU MAY GET AN OVERNIGHT PARKING VIOLATION.
URL:https://seagatebrooklyn.com/event/vehicle-passes-and-overnight-parking-permits-expire/
END:VEVENT
BEGIN:VEVENT
DTSTART;TZID=UTC:20180929T090000
DTEND;TZID=UTC:20180929T140000
DTSTAMP:20260419T135747
CREATED:20180716T151820Z
LAST-MODIFIED:20180716T151838Z
UID:1331-1538211600-1538229600@seagatebrooklyn.com
SUMMARY:Extended Office Hours: Vehicle Access/Parking Renewals 9a-2p
DESCRIPTION:OVERNIGHT PARKING PERMITS EXPIRE SEPTEMBER 30\, 2018. FAILING TO RENEW MAY RESULT IN A PARKING SUMMONS BEGINNING OCTOBER 1\, 2018. \nThe Sea Gate Association office will be open today\, September 29 from 9a-2p for Vehicle Access/Parking Renewals for 2019. \nPlease be advised of the following when coming to renew: \n\nThe vehicle to be renewed MUST be present.\nYou must bring with you both a valid driver’s license and the vehicle registration.\nHomeowners are considered those individuals listed on the deed and their children ONLY. Every one else will be charged the tenant fee to renew.\n*Proof of Address:\n\nHomeowners Children: If your last name is different from your parent(s)\, you must bring in proof that you are the child of the person(s) on the deed\, if you have not done so already.\nTenants: VALID lease or letter from the Homeowner(s) providing permission to renew. *Children of a tenant age 18 or over must either be listed on the lease or included in the letter from the Homeowner.\n\n\nIf vehicle is not registered to the applicant\, you must provide additional documentation (i.e. copy of registrants valid driver’s license\, valid registration\, letter from owner providing permission for you to drive the vehicle).\nIf vehicle is leased\, applicant must be listed either on the lease agreement (must bring in) or on the insurance policy.\nIf registered to a company you own or work for\, must provide proof of ownership\, listed on the insurance policy\, or have written permission on company letterhead.\nAll letters of permission MUST be up to date. If no date is indicated\, written permission will only be valid for the year of renewing/registering.\nIf windshield/headlight tag is damaged in any way\, you will be charged a $10 fee to replace. *DO NOT REMOVE KEY/BARCODE. We will renew in computer.\n*Renewal fee can only be paid using cash or credit. (Homeowner: $50/ Tenant: $200)\nAll parking permits MUST be placed in the lower\, left-hand side of the windshield. There are no exceptions.\nIf you driver a motorcycle/scooter and wish to obtain a vehicle access key\, you MUST sign a waiver every year.\nPlease note: The office will not remove old parking permits.
URL:https://seagatebrooklyn.com/event/extended-office-hours-vehicle-access-parking-renewals-9a-2p-2/
END:VEVENT
BEGIN:VEVENT
DTSTART;TZID=UTC:20180925T080000
DTEND;TZID=UTC:20180925T160000
DTSTAMP:20260419T135747
CREATED:20180924T143805Z
LAST-MODIFIED:20180924T143855Z
UID:1455-1537862400-1537891200@seagatebrooklyn.com
SUMMARY:WATER SERVICE INTERRUPTION
DESCRIPTION:
URL:https://seagatebrooklyn.com/event/water-service-interruption/
END:VEVENT
BEGIN:VEVENT
DTSTART;TZID=UTC:20180924T080000
DTEND;TZID=UTC:20180924T120000
DTSTAMP:20260419T135747
CREATED:20180924T143538Z
LAST-MODIFIED:20180924T143538Z
UID:1449-1537776000-1537790400@seagatebrooklyn.com
SUMMARY:WATER SERVICE INTERRUPTION (Stillwell b/n Nept. & Surf)
DESCRIPTION:
URL:https://seagatebrooklyn.com/event/water-service-interruption-stillwell-b-n-nept-surf/
END:VEVENT
BEGIN:VEVENT
DTSTART;VALUE=DATE:20180924
DTEND;VALUE=DATE:20180925
DTSTAMP:20260419T135747
CREATED:20180924T150243Z
LAST-MODIFIED:20180924T150243Z
UID:1458-1537747200-1537833599@seagatebrooklyn.com
SUMMARY:No Parking: W37th b/n Neptune & Mermaid
DESCRIPTION:No Parking on W 37th Street between Neptune Ave and Mermaid Ave for street milling.
URL:https://seagatebrooklyn.com/event/no-parking-w37th-b-n-neptune-mermaid/
END:VEVENT
BEGIN:VEVENT
DTSTART;VALUE=DATE:20180924
DTEND;VALUE=DATE:20180925
DTSTAMP:20260419T135747
CREATED:20180924T143704Z
LAST-MODIFIED:20180924T143704Z
UID:1452-1537747200-1537833599@seagatebrooklyn.com
SUMMARY:Restriction to Curbside Parking & Driveway Access (Stillwell b/n Nept & Shore Pkwy)
DESCRIPTION:
URL:https://seagatebrooklyn.com/event/restriction-to-curbside-parking-driveway-access-stillwell-b-n-nept-shore-pkwy/
END:VEVENT
BEGIN:VEVENT
DTSTART;TZID=UTC:20180923T090000
DTEND;TZID=UTC:20180923T140000
DTSTAMP:20260419T135747
CREATED:20180716T151735Z
LAST-MODIFIED:20180724T130544Z
UID:1329-1537693200-1537711200@seagatebrooklyn.com
SUMMARY:Extended Office Hours: Vehicle Access/Parking Renewals 9a-2p
DESCRIPTION:OVERNIGHT PARKING PERMITS EXPIRE SEPTEMBER 30\, 2018. FAILING TO RENEW MAY RESULT IN A PARKING SUMMONS BEGINNING OCTOBER 1\, 2018. \nThe Sea Gate Association office will be open today\, September 23 from 9a-2p for Vehicle Access/Parking Renewals for 2019. \nPlease be advised of the following when coming to renew: \n\nThe vehicle to be renewed MUST be present.\nYou must bring with you both a valid driver’s license and the vehicle registration.\nHomeowners are considered those individuals listed on the deed and their children ONLY. Every one else will be charged the tenant fee to renew.\n*Proof of Address:\n\nHomeowners Children: If your last name is different from your parent(s)\, you must bring in proof that you are the child of the person(s) on the deed\, if you have not done so already.\nTenants: VALID lease or letter from the Homeowner(s) providing permission to renew. *Children of a tenant age 18 or over must either be listed on the lease or included in the letter from the Homeowner.\n\n\nIf vehicle is not registered to the applicant\, you must provide additional documentation (i.e. copy of registrants valid driver’s license\, valid registration\, letter from owner providing permission for you to drive the vehicle).\nIf vehicle is leased\, applicant must be listed either on the lease agreement (must bring in) or on the insurance policy.\nIf registered to a company you own or work for\, must provide proof of ownership\, listed on the insurance policy\, or have written permission on company letterhead.\nAll letters of permission MUST be up to date. If no date is indicated\, written permission will only be valid for the year of renewing/registering.\nIf windshield/headlight tag is damaged in any way\, you will be charged a $10 fee to replace. *DO NOT REMOVE KEY/BARCODE. We will renew in computer.\n*Renewal fee can only be paid using cash or credit. (Homeowner: $50/ Tenant: $200)\nAll parking permits MUST be placed in the lower\, left-hand side of the windshield. There are no exceptions.\nIf you driver a motorcycle/scooter and wish to obtain a vehicle access key\, you MUST sign a waiver every year.\nPlease note: The office will not remove old parking permits.
URL:https://seagatebrooklyn.com/event/extended-office-hours-vehicle-access-parking-renewals-9a-2p/
END:VEVENT
END:VCALENDAR