BEGIN:VCALENDAR
VERSION:2.0
PRODID:-//Sea Gate - ECPv6.15.11//NONSGML v1.0//EN
CALSCALE:GREGORIAN
METHOD:PUBLISH
X-WR-CALNAME:Sea Gate
X-ORIGINAL-URL:https://seagatebrooklyn.com
X-WR-CALDESC:Events for Sea Gate
REFRESH-INTERVAL;VALUE=DURATION:PT1H
X-Robots-Tag:noindex
X-PUBLISHED-TTL:PT1H
BEGIN:VTIMEZONE
TZID:UTC
BEGIN:STANDARD
TZOFFSETFROM:+0000
TZOFFSETTO:+0000
TZNAME:UTC
DTSTART:20170101T000000
END:STANDARD
END:VTIMEZONE
BEGIN:VEVENT
DTSTART;TZID=UTC:20181010T180000
DTEND;TZID=UTC:20181010T200000
DTSTAMP:20260419T172112
CREATED:20181004T124522Z
LAST-MODIFIED:20181004T124522Z
UID:1464-1539194400-1539201600@seagatebrooklyn.com
SUMMARY:COMMUNITY INFORMATION RESOURCE NIGHT
DESCRIPTION:
URL:https://seagatebrooklyn.com/event/community-information-resource-night/
END:VEVENT
BEGIN:VEVENT
DTSTART;TZID=UTC:20181008T200000
DTEND;TZID=UTC:20181008T220000
DTSTAMP:20260419T172112
CREATED:20180912T141614Z
LAST-MODIFIED:20180912T141614Z
UID:1432-1539028800-1539036000@seagatebrooklyn.com
SUMMARY:HOMEOWNER: ANNUAL MEETING 8PM
DESCRIPTION:DEAR HOMEOWNERS: \nPLEASE JOIN THE SEA GATE ASSOCIATION BOARD OF DIRECTORS FOR THE ANNUAL 2018 BOARD MEETING. \nWHEN: 8PM\, MONDAY\, OCTOBER 8\, 2018 \nWHERE: NOVA ATHLETIC CENTER (DANCE ROOM)\, 3701 SURF AVENUE\, BROOKLYN\, NY 11224
URL:https://seagatebrooklyn.com/event/homeowner-annual-meeting-8pm/
LOCATION:Nova Athletic Center\, 3701 Surf Avenue\, Brooklyn\, NY\, 11224\, United States
END:VEVENT
BEGIN:VEVENT
DTSTART;VALUE=DATE:20181008
DTEND;VALUE=DATE:20181013
DTSTAMP:20260419T172112
CREATED:20181005T190654Z
LAST-MODIFIED:20181005T190701Z
UID:1472-1538956800-1539388799@seagatebrooklyn.com
SUMMARY:Weekday MTA Service Changes
DESCRIPTION:
URL:https://seagatebrooklyn.com/event/weekday-mta-service-changes/
END:VEVENT
BEGIN:VEVENT
DTSTART;VALUE=DATE:20180930
DTEND;VALUE=DATE:20181001
DTSTAMP:20260419T172112
CREATED:20180608T193050Z
LAST-MODIFIED:20180608T193050Z
UID:1218-1538265600-1538351999@seagatebrooklyn.com
SUMMARY:VEHICLE PASSES AND OVERNIGHT PARKING PERMITS EXPIRE
DESCRIPTION:PLEASE BE ADVISED THAT YOUR 2018 VEHICLE ACCESS AND OVERNIGHT PARKING PERMITS EXPIRE TODAY. \nIF YOU HAVE NOT RENEWED\, YOU MAY GET AN OVERNIGHT PARKING VIOLATION.
URL:https://seagatebrooklyn.com/event/vehicle-passes-and-overnight-parking-permits-expire/
END:VEVENT
BEGIN:VEVENT
DTSTART;TZID=UTC:20180929T090000
DTEND;TZID=UTC:20180929T140000
DTSTAMP:20260419T172112
CREATED:20180716T151820Z
LAST-MODIFIED:20180716T151838Z
UID:1331-1538211600-1538229600@seagatebrooklyn.com
SUMMARY:Extended Office Hours: Vehicle Access/Parking Renewals 9a-2p
DESCRIPTION:OVERNIGHT PARKING PERMITS EXPIRE SEPTEMBER 30\, 2018. FAILING TO RENEW MAY RESULT IN A PARKING SUMMONS BEGINNING OCTOBER 1\, 2018. \nThe Sea Gate Association office will be open today\, September 29 from 9a-2p for Vehicle Access/Parking Renewals for 2019. \nPlease be advised of the following when coming to renew: \n\nThe vehicle to be renewed MUST be present.\nYou must bring with you both a valid driver’s license and the vehicle registration.\nHomeowners are considered those individuals listed on the deed and their children ONLY. Every one else will be charged the tenant fee to renew.\n*Proof of Address:\n\nHomeowners Children: If your last name is different from your parent(s)\, you must bring in proof that you are the child of the person(s) on the deed\, if you have not done so already.\nTenants: VALID lease or letter from the Homeowner(s) providing permission to renew. *Children of a tenant age 18 or over must either be listed on the lease or included in the letter from the Homeowner.\n\n\nIf vehicle is not registered to the applicant\, you must provide additional documentation (i.e. copy of registrants valid driver’s license\, valid registration\, letter from owner providing permission for you to drive the vehicle).\nIf vehicle is leased\, applicant must be listed either on the lease agreement (must bring in) or on the insurance policy.\nIf registered to a company you own or work for\, must provide proof of ownership\, listed on the insurance policy\, or have written permission on company letterhead.\nAll letters of permission MUST be up to date. If no date is indicated\, written permission will only be valid for the year of renewing/registering.\nIf windshield/headlight tag is damaged in any way\, you will be charged a $10 fee to replace. *DO NOT REMOVE KEY/BARCODE. We will renew in computer.\n*Renewal fee can only be paid using cash or credit. (Homeowner: $50/ Tenant: $200)\nAll parking permits MUST be placed in the lower\, left-hand side of the windshield. There are no exceptions.\nIf you driver a motorcycle/scooter and wish to obtain a vehicle access key\, you MUST sign a waiver every year.\nPlease note: The office will not remove old parking permits.
URL:https://seagatebrooklyn.com/event/extended-office-hours-vehicle-access-parking-renewals-9a-2p-2/
END:VEVENT
BEGIN:VEVENT
DTSTART;TZID=UTC:20180925T080000
DTEND;TZID=UTC:20180925T160000
DTSTAMP:20260419T172112
CREATED:20180924T143805Z
LAST-MODIFIED:20180924T143855Z
UID:1455-1537862400-1537891200@seagatebrooklyn.com
SUMMARY:WATER SERVICE INTERRUPTION
DESCRIPTION:
URL:https://seagatebrooklyn.com/event/water-service-interruption/
END:VEVENT
BEGIN:VEVENT
DTSTART;TZID=UTC:20180924T080000
DTEND;TZID=UTC:20180924T120000
DTSTAMP:20260419T172112
CREATED:20180924T143538Z
LAST-MODIFIED:20180924T143538Z
UID:1449-1537776000-1537790400@seagatebrooklyn.com
SUMMARY:WATER SERVICE INTERRUPTION (Stillwell b/n Nept. & Surf)
DESCRIPTION:
URL:https://seagatebrooklyn.com/event/water-service-interruption-stillwell-b-n-nept-surf/
END:VEVENT
BEGIN:VEVENT
DTSTART;VALUE=DATE:20180924
DTEND;VALUE=DATE:20180925
DTSTAMP:20260419T172112
CREATED:20180924T150243Z
LAST-MODIFIED:20180924T150243Z
UID:1458-1537747200-1537833599@seagatebrooklyn.com
SUMMARY:No Parking: W37th b/n Neptune & Mermaid
DESCRIPTION:No Parking on W 37th Street between Neptune Ave and Mermaid Ave for street milling.
URL:https://seagatebrooklyn.com/event/no-parking-w37th-b-n-neptune-mermaid/
END:VEVENT
BEGIN:VEVENT
DTSTART;VALUE=DATE:20180924
DTEND;VALUE=DATE:20180925
DTSTAMP:20260419T172112
CREATED:20180924T143704Z
LAST-MODIFIED:20180924T143704Z
UID:1452-1537747200-1537833599@seagatebrooklyn.com
SUMMARY:Restriction to Curbside Parking & Driveway Access (Stillwell b/n Nept & Shore Pkwy)
DESCRIPTION:
URL:https://seagatebrooklyn.com/event/restriction-to-curbside-parking-driveway-access-stillwell-b-n-nept-shore-pkwy/
END:VEVENT
BEGIN:VEVENT
DTSTART;TZID=UTC:20180923T090000
DTEND;TZID=UTC:20180923T140000
DTSTAMP:20260419T172112
CREATED:20180716T151735Z
LAST-MODIFIED:20180724T130544Z
UID:1329-1537693200-1537711200@seagatebrooklyn.com
SUMMARY:Extended Office Hours: Vehicle Access/Parking Renewals 9a-2p
DESCRIPTION:OVERNIGHT PARKING PERMITS EXPIRE SEPTEMBER 30\, 2018. FAILING TO RENEW MAY RESULT IN A PARKING SUMMONS BEGINNING OCTOBER 1\, 2018. \nThe Sea Gate Association office will be open today\, September 23 from 9a-2p for Vehicle Access/Parking Renewals for 2019. \nPlease be advised of the following when coming to renew: \n\nThe vehicle to be renewed MUST be present.\nYou must bring with you both a valid driver’s license and the vehicle registration.\nHomeowners are considered those individuals listed on the deed and their children ONLY. Every one else will be charged the tenant fee to renew.\n*Proof of Address:\n\nHomeowners Children: If your last name is different from your parent(s)\, you must bring in proof that you are the child of the person(s) on the deed\, if you have not done so already.\nTenants: VALID lease or letter from the Homeowner(s) providing permission to renew. *Children of a tenant age 18 or over must either be listed on the lease or included in the letter from the Homeowner.\n\n\nIf vehicle is not registered to the applicant\, you must provide additional documentation (i.e. copy of registrants valid driver’s license\, valid registration\, letter from owner providing permission for you to drive the vehicle).\nIf vehicle is leased\, applicant must be listed either on the lease agreement (must bring in) or on the insurance policy.\nIf registered to a company you own or work for\, must provide proof of ownership\, listed on the insurance policy\, or have written permission on company letterhead.\nAll letters of permission MUST be up to date. If no date is indicated\, written permission will only be valid for the year of renewing/registering.\nIf windshield/headlight tag is damaged in any way\, you will be charged a $10 fee to replace. *DO NOT REMOVE KEY/BARCODE. We will renew in computer.\n*Renewal fee can only be paid using cash or credit. (Homeowner: $50/ Tenant: $200)\nAll parking permits MUST be placed in the lower\, left-hand side of the windshield. There are no exceptions.\nIf you driver a motorcycle/scooter and wish to obtain a vehicle access key\, you MUST sign a waiver every year.\nPlease note: The office will not remove old parking permits.
URL:https://seagatebrooklyn.com/event/extended-office-hours-vehicle-access-parking-renewals-9a-2p/
END:VEVENT
BEGIN:VEVENT
DTSTART;VALUE=DATE:20180917
DTEND;VALUE=DATE:20180918
DTSTAMP:20260419T172112
CREATED:20180912T141321Z
LAST-MODIFIED:20180912T141321Z
UID:1430-1537142400-1537228799@seagatebrooklyn.com
SUMMARY:ROAD RESTRICTIONS ADVISORY (CONEY ISLAND) 9/17-8MONTHS
DESCRIPTION:
URL:https://seagatebrooklyn.com/event/road-restrictions-advisory-coney-island-9-17-8months/
END:VEVENT
BEGIN:VEVENT
DTSTART;TZID=UTC:20180916T090000
DTEND;TZID=UTC:20180916T140000
DTSTAMP:20260419T172112
CREATED:20180716T151449Z
LAST-MODIFIED:20180716T151548Z
UID:1325-1537088400-1537106400@seagatebrooklyn.com
SUMMARY:Extended Office Hours: Vehicle Access/Parking Renewals (9a-2p)
DESCRIPTION:OVERNIGHT PARKING PERMITS EXPIRE SEPTEMBER 30\, 2018. FAILING TO RENEW MAY RESULT IN A PARKING SUMMONS BEGINNING OCTOBER 1\, 2018. \nThe Sea Gate Association office will be open today\, September 16  from 9a-2p for Vehicle Access/Parking Renewals for 2019. \nPlease be advised of the following when coming to renew: \n\nThe vehicle to be renewed MUST be present.\nYou must bring with you both a valid driver’s license and the vehicle registration.\nHomeowners are considered those individuals listed on the deed and their children ONLY. Every one else will be charged the tenant fee to renew.\n*Proof of Address:\n\nHomeowners Children: If your last name is different from your parent(s)\, you must bring in proof that you are the child of the person(s) on the deed\, if you have not done so already.\nTenants: VALID lease or letter from the Homeowner(s) providing permission to renew. *Children of a tenant age 18 or over must either be listed on the lease or included in the letter from the Homeowner.\n\n\nIf vehicle is not registered to the applicant\, you must provide additional documentation (i.e. copy of registrants valid driver’s license\, valid registration\, letter from owner providing permission for you to drive the vehicle).\nIf vehicle is leased\, applicant must be listed either on the lease agreement (must bring in) or on the insurance policy.\nIf registered to a company you own or work for\, must provide proof of ownership\, listed on the insurance policy\, or have written permission on company letterhead.\nAll letters of permission MUST be up to date. If no date is indicated\, written permission will only be valid for the year of renewing/registering.\nIf windshield/headlight tag is damaged in any way\, you will be charged a $10 fee to replace. *DO NOT REMOVE KEY/BARCODE. We will renew in computer.\n*Renewal fee can only be paid using cash or credit. (Homeowner: $50/ Tenant: $200)\nAll parking permits MUST be placed in the lower\, left-hand side of the windshield. There are no exceptions.\nIf you driver a motorcycle/scooter and wish to obtain a vehicle access key\, you MUST sign a waiver every year.\nPlease note: The office will not remove old parking permits.
URL:https://seagatebrooklyn.com/event/extended-office-hours-vehicle-access-parking-renewals-for-2019-9a-2p/
END:VEVENT
BEGIN:VEVENT
DTSTART;TZID=UTC:20180915T110000
DTEND;TZID=UTC:20180915T160000
DTSTAMP:20260419T172112
CREATED:20180913T172444Z
LAST-MODIFIED:20180913T172450Z
UID:1435-1537009200-1537027200@seagatebrooklyn.com
SUMMARY:Annual Family Day
DESCRIPTION:
URL:https://seagatebrooklyn.com/event/annual-family-day/
LOCATION:2980 W29th St\, 2980 W29th Street\, Brooklyn\, NY\, United States
END:VEVENT
BEGIN:VEVENT
DTSTART;TZID=UTC:20180910T190000
DTEND;TZID=UTC:20180910T200000
DTSTAMP:20260419T172112
CREATED:20180830T180404Z
LAST-MODIFIED:20180830T180514Z
UID:1389-1536606000-1536609600@seagatebrooklyn.com
SUMMARY:ANNUAL CANDLELIGHT CEREMONY 7PM
DESCRIPTION:
URL:https://seagatebrooklyn.com/event/annual-candlelight-ceremony-7pm/
END:VEVENT
BEGIN:VEVENT
DTSTART;VALUE=DATE:20180910
DTEND;VALUE=DATE:20180915
DTSTAMP:20260419T172112
CREATED:20180907T165457Z
LAST-MODIFIED:20180907T165457Z
UID:1412-1536537600-1536969599@seagatebrooklyn.com
SUMMARY:WEEKDAY MTA DISRUPTIONS
DESCRIPTION:
URL:https://seagatebrooklyn.com/event/weekday-mta-disruptions/
END:VEVENT
BEGIN:VEVENT
DTSTART;TZID=UTC:20180908T090000
DTEND;TZID=UTC:20180908T140000
DTSTAMP:20260419T172112
CREATED:20180716T134239Z
LAST-MODIFIED:20180724T130520Z
UID:1321-1536397200-1536415200@seagatebrooklyn.com
SUMMARY:Extended Office Hours: Vehicle Access/Parking Renewals 9a-2p
DESCRIPTION:OVERNIGHT PARKING PERMITS EXPIRE SEPTEMBER 30\, 2018. FAILING TO RENEW MAY RESULT IN A PARKING SUMMONS BEGINNING OCTOBER 1\, 2018. \nThe Sea Gate Association office will be open today\, September 8 from 9a-2p for Vehicle Access/Parking Renewals for 2019. \nPlease be advised of the following when coming to renew: \n\nThe vehicle to be renewed MUST be present.\nYou must bring with you both a valid driver’s license and the vehicle registration.\nHomeowners are considered those individuals listed on the deed and their children ONLY. Every one else will be charged the tenant fee to renew.\n*Proof of Address:\n\nHomeowners Children: If your last name is different from your parent(s)\, you must bring in proof that you are the child of the person(s) on the deed\, if you have not done so already.\nTenants: VALID lease or letter from the Homeowner(s) providing permission to renew. *Children of a tenant age 18 or over must either be listed on the lease or included in the letter from the Homeowner.\n\n\nIf vehicle is not registered to the applicant\, you must provide additional documentation (i.e. copy of registrants valid driver’s license\, valid registration\, letter from owner providing permission for you to drive the vehicle).\nIf vehicle is leased\, applicant must be listed either on the lease agreement (must bring in) or on the insurance policy.\nIf registered to a company you own or work for\, must provide proof of ownership\, listed on the insurance policy\, or have written permission on company letterhead.\nAll letters of permission MUST be up to date. If no date is indicated\, written permission will only be valid for the year of renewing/registering.\nIf windshield/headlight tag is damaged in any way\, you will be charged a $10 fee to replace. *DO NOT REMOVE KEY/BARCODE. We will renew in computer.\n*Renewal fee can only be paid using cash or credit. (Homeowner: $50/ Tenant: $200)\nAll parking permits MUST be placed in the lower\, left-hand side of the windshield. There are no exceptions.\nIf you driver a motorcycle/scooter and wish to obtain a vehicle access key\, you MUST sign a waiver every year.\nPlease note: The office will not remove old parking permits.
URL:https://seagatebrooklyn.com/event/extended-office-hours-vehicle-access-parking-renewals/
END:VEVENT
BEGIN:VEVENT
DTSTART;VALUE=DATE:20180907
DTEND;VALUE=DATE:20180911
DTSTAMP:20260419T172112
CREATED:20180907T164203Z
LAST-MODIFIED:20180907T164203Z
UID:1410-1536278400-1536623999@seagatebrooklyn.com
SUMMARY:WEEKEND MTA DISTRUPTIONS
DESCRIPTION:
URL:https://seagatebrooklyn.com/event/weekend-mta-distruptions/
END:VEVENT
BEGIN:VEVENT
DTSTART;TZID=UTC:20180904T080000
DTEND;TZID=UTC:20180904T160000
DTSTAMP:20260419T172112
CREATED:20180831T180724Z
LAST-MODIFIED:20180831T180731Z
UID:1395-1536048000-1536076800@seagatebrooklyn.com
SUMMARY:COMMUNITY ADVISORY: WATER SERVICE INTERRUPTION
DESCRIPTION:
URL:https://seagatebrooklyn.com/event/community-advisory-water-service-interruption-2/
END:VEVENT
BEGIN:VEVENT
DTSTART;VALUE=DATE:20180903
DTEND;VALUE=DATE:20180904
DTSTAMP:20260419T172112
CREATED:20180618T131327Z
LAST-MODIFIED:20180618T131327Z
UID:1255-1535932800-1536019199@seagatebrooklyn.com
SUMMARY:OFFICE CLOSED - LABOR DAY OBSERVANCE
DESCRIPTION:
URL:https://seagatebrooklyn.com/event/office-closed-labor-day-observance/
END:VEVENT
BEGIN:VEVENT
DTSTART;TZID=UTC:20180831T080000
DTEND;TZID=UTC:20180831T160000
DTSTAMP:20260419T172112
CREATED:20180830T181057Z
LAST-MODIFIED:20180830T181057Z
UID:1392-1535702400-1535731200@seagatebrooklyn.com
SUMMARY:COMMUNITY ADVISORY: WATER SERVICE INTERRUPTION
DESCRIPTION:
URL:https://seagatebrooklyn.com/event/community-advisory-water-service-interruption/
END:VEVENT
BEGIN:VEVENT
DTSTART;TZID=UTC:20180825T100000
DTEND;TZID=UTC:20180825T190000
DTSTAMP:20260419T172112
CREATED:20180817T200806Z
LAST-MODIFIED:20180817T200817Z
UID:1373-1535191200-1535223600@seagatebrooklyn.com
SUMMARY:Health Jox Festival @ Kaiser Park
DESCRIPTION:
URL:https://seagatebrooklyn.com/event/health-jox-festival-kaiser-park/
END:VEVENT
BEGIN:VEVENT
DTSTART;VALUE=DATE:20180825
DTEND;VALUE=DATE:20180826
DTSTAMP:20260419T172112
CREATED:20180817T200717Z
LAST-MODIFIED:20180817T200717Z
UID:1370-1535155200-1535241599@seagatebrooklyn.com
SUMMARY:Dwayne "Don Juan PPV" McMahon Day
DESCRIPTION:
URL:https://seagatebrooklyn.com/event/dwayne-don-juan-ppv-mcmahon-day/
END:VEVENT
BEGIN:VEVENT
DTSTART;TZID=UTC:20180823T203000
DTEND;TZID=UTC:20180824T060000
DTSTAMP:20260419T172112
CREATED:20180823T160748Z
LAST-MODIFIED:20180823T160754Z
UID:1385-1535056200-1535090400@seagatebrooklyn.com
SUMMARY:HEALTH DEPT TO CONDUCT ADULTICIDING
DESCRIPTION:NEW YORK CITY DEPARTMENT OF HEALTH\nAND MENTAL HYGIENE \nMary T. Bassett\, MD\, MPH \n                                         Commissioner           \nFOR IMMEDIATE RELEASE \n  \n  \n  \nHEALTH DEPARTMENT TO CONDUCT EIGHTH ADULTICIDING OF THE SEASON TO REDUCE RISK OF WEST NILE VIRUS \n  \nTrucks will spray pesticide in parts of Queens and Brooklyn on Tuesday\, August 21 and in the Bronx and Brooklyn on Thursday\, August 23 \nAugust 17\, 2018 – To reduce mosquito activity and the risk of West Nile virus\, the Health Department will conduct its eighth adulticide treatment of the season. Trucks will spray pesticides in sections of the Queens and Brooklyn on Tuesday\, August 21 between the hours of 8:30 p.m. and 6 a.m. the following morning\, weather permitting. In case of bad weather\, application will be delayed until Wednesday\, August 22. Trucks will spray pesticides in sections of the Bronx and Brooklyn on Thursday\, August 23 between the hours of 8:30 p.m. and 6 a.m. the following morning\, weather permitting. In case of bad weather\, application will be delayed until Monday\, August 27. \n  \nFor the truck sprayings in Queens\, Brooklyn and the Bronx\, the Health Department will use very low concentrations of Anvil® 10+10. The risks of pesticides applied by the Health Department for mosquito control are low to people and pets. Some people who are sensitive to spray ingredients may experience short-term eye or throat irritation\, or a rash. People with respiratory conditions may also be affected. \nTo stay safe during spraying: \n\nStay indoors\, whenever possible.\nAir conditioners can remain on. While unnecessary\, you may wish to close air conditioner vents\, or choose the recirculate function.\n\nAfter spraying: \n\nWhile unnecessary\, you can wash outdoor toys and equipment with soap and water.\nWash skin and clothing exposed to pesticides with soap and water.\nAlways wash fruits and vegetables with water.\n\n  \nThe most effective way to control mosquitoes is to eliminate any standing water. New Yorkers are also encouraged to mosquito-proof their homes and take precautions when spending time outdoors. \n  \nReducing exposure to mosquitoes  \n\nUse an approved insect repellent containing DEET\, picaridin\, oil of lemon eucalyptus (not for children under three)\, or products that contain the active ingredient IR3535.\nMake sure windows have screens. Repair or replace screens that have tears or holes.\nEliminate any standing water from your property and dispose of containers that can collect water. Standing water is a violation of the New York City Health Code.\nMake sure roof gutters are clean and draining properly.\nClean and chlorinate swimming pools\, outdoor saunas and hot tubs. Keep them empty or covered if not in use. Drain water that collects in pool covers.\n\n  \nReport standing water by calling 311 or visiting nyc.gov/health/wnv. For more information about West Nile virus\, call 311 or visit nyc.gov. \n  \n  \n  \n  \nLocations of truck spraying in Queens and Brooklyn to reduce risk of West Nile virus \n  \n  \n\n\n\nBorough\nNeighborhoods\nBoundaries\nZip Codes\n\n\nQueens and Brooklyn\nQueens: Parts of Blissville\, Howard Beach\, Hunters Point\, Lindenwood\, Maspeth\, Ridgewood\, Ozone Park\, South Ozone Park\, Sunnyside\, West Maspeth\, and Woodside. \nBrooklyn: Parts of Broadway Junction\, Brownsville\, Bushwick\, City Line\, Cypress Hills\, East New York\, East Williamsburg\, Greenpoint\, Highland Park\, and Ocean Hill\nBordered by Union Avenue\, Brooklyn Queens Expressway\, McGuinness Boulevard\, and 11th Street to the West; 49th Avenue\, Skillman Avenue\, Queens Boulevard\, 69th Street\, Grand Avenue\, Flushing Avenue\, Cypress Avenue\, Vermont Place\, Highland Boulevard\, Force Tube Avenue\, Fulton Street\, and Rockaway Boulevard to the North; Lefferts Boulevard and Bergen Basin to the East; Jamaica Bay\, Old Mill Creek\, Fountain Avenue\, Sutter Avenue\, Rockaway Avenue\, and Broadway to the South.\nQueens: Parts of 11101\, 11104\, 11377\, 11378\, 11385\, 11414\, 11416\, 11417\, 11420\, 11421 and 11430.  Brooklyn: Parts of 11206\, 11207\, 11208\, 11211\, 11212\, 11221\, 11222\, 11233\, and 11237\n\n\n\n  \n  \n  \n  \n  \nMap of truck spray areas \n  \n  \n  \nLocations of truck spraying in the Bronx and Brooklyn to reduce risk of West Nile virus \n  \n\n\n\nBorough\nNeighborhoods\nBoundaries\nZip Codes\n\n\nBronx\nParts of Bathgate\, Belmont\, Bronx River\, Bruckner\, Claremont\, Claremont Village\, Clason Point\, Crotona Park East\, East Tremont\, Harding Park\, Hunts Point\, Longwood\, Melrose\, Morrisania\, Mott Haven\, Port Morris\, Soundview\, The Hub\, Tremont and West Farms\nBordered by Willis Avenue\, Melrose Avenue and Webster Avenue to the West; East 187 Street\, Crotona Avenue\, Cross Bronx Expressway\, Bronx River Parkway and Bruckner Expressway to the North; Thieriot Avenue to the East; and East River\, and East 141st Street to the South.\nParts of 10451\, 10454\, 10455\, 10456\, 10457\, 10458\, 10459\, 10460\, 10472\, 10473\, 10474\n\n\nBrooklyn\nParts of Bergen Beach\, Brighton Beach\, Coney Island\, Flatlands\, Gerritsen Beach\, Gravesend\, Homecrest\, Manhattan Beach\, Marine Park\, Mill Basin\, Mill Island\, Seagate and Sheepshead Bay.\nBordered by 25th Avenue\, 86th Street\, and West 7th Street to the West; Kings Highway\, Ocean Parkway\, Avenue V\, Nostrand Avenue\, Avenue S\, Ocean Avenue\, Avenue N\, East 33rd Street\, Avenue S\, Utica Avenue\, Avenue N\, and Veterans Avenue to the North; East 68th Street and East Mill Basin to the East; Belt Parkway\, West End Avenue\, Coney Island Channel\, Stillwell Avenue and Coney Island Creek to the South.\nParts of 11210\, 11214\, 11223\, 11224\, 11229\, 11234\, 11235\n\n\n\n  \n  \n  \nMap of truck spray areas \n  \n  \n  \n  \n  \n# \n  \n  \n  \n  \n  \n  \n  \n  \n  \n  \n  \n  \n  \nSent from the New York City Department of Health & Mental Hygiene. This email and any files transmitted with it may contain confidential information and are intended solely for the use of the individual or entity to whom they are addressed. This footnote also confirms that this email message has been swept for the presence of computer viruses.
URL:https://seagatebrooklyn.com/event/health-dept-to-conduct-adulticiding/
END:VEVENT
BEGIN:VEVENT
DTSTART;TZID=UTC:20180823T070000
DTEND;TZID=UTC:20180823T160000
DTSTAMP:20260419T172112
CREATED:20180822T194526Z
LAST-MODIFIED:20180822T194533Z
UID:1382-1535007600-1535040000@seagatebrooklyn.com
SUMMARY:COMMUNITY ADVISORY
DESCRIPTION:
URL:https://seagatebrooklyn.com/event/community-advisory-3/
END:VEVENT
BEGIN:VEVENT
DTSTART;TZID=UTC:20180822T160000
DTEND;TZID=UTC:20180822T190000
DTSTAMP:20260419T172112
CREATED:20180820T191840Z
LAST-MODIFIED:20180820T191840Z
UID:1376-1534953600-1534964400@seagatebrooklyn.com
SUMMARY:NYC Workforce 1 Career Opportunities
DESCRIPTION:
URL:https://seagatebrooklyn.com/event/nyc-workforce-1-career-opportunities/
LOCATION:PS 228\, 2950 West 25th Street\, Brooklyn\, NY\, 11224\, United States
END:VEVENT
BEGIN:VEVENT
DTSTART;TZID=UTC:20180822T120000
DTEND;TZID=UTC:20180822T150000
DTSTAMP:20260419T172112
CREATED:20180816T170044Z
LAST-MODIFIED:20180816T170100Z
UID:1352-1534939200-1534950000@seagatebrooklyn.com
SUMMARY:CITY RESOURCE FAIR 12-3P
DESCRIPTION:
URL:https://seagatebrooklyn.com/event/city-resource-fair-12-3p/
LOCATION:INGERSOLL COMMUNITY CENTER\, 177 MYRTLE AVENUE\, BROOKLYN\, NY\, 11201\, United States
END:VEVENT
BEGIN:VEVENT
DTSTART;TZID=UTC:20180818T120000
DTEND;TZID=UTC:20180818T150000
DTSTAMP:20260419T172112
CREATED:20180817T200604Z
LAST-MODIFIED:20180817T200621Z
UID:1366-1534593600-1534604400@seagatebrooklyn.com
SUMMARY:28th Annual Coney Island Sand Sculpting Contest
DESCRIPTION:
URL:https://seagatebrooklyn.com/event/28th-annual-coney-island-sand-sculpting-contest/
END:VEVENT
BEGIN:VEVENT
DTSTART;TZID=UTC:20180817T070000
DTEND;TZID=UTC:20180824T153000
DTSTAMP:20260419T172112
CREATED:20180817T200122Z
LAST-MODIFIED:20180817T200217Z
UID:1360-1534489200-1535124600@seagatebrooklyn.com
SUMMARY:WEEKLY CONSTRUCTION BULLETIN 8/17-8/24
DESCRIPTION:
URL:https://seagatebrooklyn.com/event/weekly-construction-bulletin-8-17-8-24/
END:VEVENT
BEGIN:VEVENT
DTSTART;VALUE=DATE:20180730
DTEND;VALUE=DATE:20180804
DTSTAMP:20260419T172112
CREATED:20180730T131405Z
LAST-MODIFIED:20180730T131405Z
UID:1342-1532908800-1533340799@seagatebrooklyn.com
SUMMARY:WEEKLY CONSTRUCTION BULLETIN
DESCRIPTION:
URL:https://seagatebrooklyn.com/event/weekly-construction-bulletin/
END:VEVENT
BEGIN:VEVENT
DTSTART;TZID=UTC:20180729T140000
DTEND;TZID=UTC:20180729T160000
DTSTAMP:20260419T172112
CREATED:20180730T131148Z
LAST-MODIFIED:20180730T131148Z
UID:1339-1532872800-1532880000@seagatebrooklyn.com
SUMMARY:CONGRESS ON YOUR CORNER 2-4P
DESCRIPTION:
URL:https://seagatebrooklyn.com/event/congress-on-your-corner-2-4p/
END:VEVENT
END:VCALENDAR