BEGIN:VCALENDAR
VERSION:2.0
PRODID:-//Sea Gate - ECPv6.15.11//NONSGML v1.0//EN
CALSCALE:GREGORIAN
METHOD:PUBLISH
X-WR-CALNAME:Sea Gate
X-ORIGINAL-URL:https://seagatebrooklyn.com
X-WR-CALDESC:Events for Sea Gate
REFRESH-INTERVAL;VALUE=DURATION:PT1H
X-Robots-Tag:noindex
X-PUBLISHED-TTL:PT1H
BEGIN:VTIMEZONE
TZID:UTC
BEGIN:STANDARD
TZOFFSETFROM:+0000
TZOFFSETTO:+0000
TZNAME:UTC
DTSTART:20160101T000000
END:STANDARD
END:VTIMEZONE
BEGIN:VEVENT
DTSTART;TZID=UTC:20180602T090000
DTEND;TZID=UTC:20180602T120000
DTSTAMP:20260420T020430
CREATED:20180326T164753Z
LAST-MODIFIED:20180326T164753Z
UID:1131-1527930000-1527940800@seagatebrooklyn.com
SUMMARY:EXTENDED OFFICE HOURS
DESCRIPTION:The office will be open today from 9a – 12p for Beach Passes. \nRemember\, if you are a tenant\, you will need to bring documentation (either a valid lease or Letter from the Homeowner stating that you are a current tenant for the year 2018).
URL:https://seagatebrooklyn.com/event/extended-office-hours-8/
END:VEVENT
BEGIN:VEVENT
DTSTART;VALUE=DATE:20180528
DTEND;VALUE=DATE:20180529
DTSTAMP:20260420T020430
CREATED:20180326T163702Z
LAST-MODIFIED:20180326T163702Z
UID:1115-1527465600-1527551999@seagatebrooklyn.com
SUMMARY:OFFICE CLOSED - MEMORIAL DAY
DESCRIPTION:
URL:https://seagatebrooklyn.com/event/office-closed-memorial-day/
END:VEVENT
BEGIN:VEVENT
DTSTART;TZID=UTC:20180527T090000
DTEND;TZID=UTC:20180527T120000
DTSTAMP:20260420T020430
CREATED:20180326T164724Z
LAST-MODIFIED:20180326T164724Z
UID:1129-1527411600-1527422400@seagatebrooklyn.com
SUMMARY:EXTENDED OFFICE HOURS
DESCRIPTION:The office will be open today from 9a – 12p for Beach Passes. \nRemember\, if you are a tenant\, you will need to bring documentation (either a valid lease or Letter from the Homeowner stating that you are a current tenant for the year 2018).
URL:https://seagatebrooklyn.com/event/extended-office-hours-7/
END:VEVENT
BEGIN:VEVENT
DTSTART;TZID=UTC:20180526T090000
DTEND;TZID=UTC:20180526T120000
DTSTAMP:20260420T020430
CREATED:20180326T164649Z
LAST-MODIFIED:20180326T164649Z
UID:1127-1527325200-1527336000@seagatebrooklyn.com
SUMMARY:EXTENDED OFFICE HOURS
DESCRIPTION:The office will be open today from 9a – 12p for Beach Passes. \nRemember\, if you are a tenant\, you will need to bring documentation (either a valid lease or Letter from the Homeowner stating that you are a current tenant for the year 2018).
URL:https://seagatebrooklyn.com/event/extended-office-hours-6/
END:VEVENT
BEGIN:VEVENT
DTSTART;TZID=UTC:20180520T090000
DTEND;TZID=UTC:20180520T120000
DTSTAMP:20260420T020430
CREATED:20180326T164609Z
LAST-MODIFIED:20180326T164609Z
UID:1125-1526806800-1526817600@seagatebrooklyn.com
SUMMARY:EXTENDED OFFICE HOURS
DESCRIPTION:The office will be open today from 9a – 12p for Beach Passes. \nRemember\, if you are a tenant\, you will need to bring documentation (either a valid lease or Letter from the Homeowner stating that you are a current tenant for the year 2018).
URL:https://seagatebrooklyn.com/event/extended-office-hours-5/
END:VEVENT
BEGIN:VEVENT
DTSTART;TZID=UTC:20180519T090000
DTEND;TZID=UTC:20180519T120000
DTSTAMP:20260420T020430
CREATED:20180326T164500Z
LAST-MODIFIED:20180326T164500Z
UID:1123-1526720400-1526731200@seagatebrooklyn.com
SUMMARY:EXTENDED OFFICE HOURS
DESCRIPTION:The office will be open today from 9a – 12p for Beach Passes. \nRemember\, if you are a tenant\, you will need to bring documentation (either a valid lease or Letter from the Homeowner stating that you are a current tenant for the year 2018).
URL:https://seagatebrooklyn.com/event/extended-office-hours-4/
END:VEVENT
BEGIN:VEVENT
DTSTART;TZID=UTC:20180512T090000
DTEND;TZID=UTC:20180512T120000
DTSTAMP:20260420T020430
CREATED:20180326T164417Z
LAST-MODIFIED:20180326T164417Z
UID:1121-1526115600-1526126400@seagatebrooklyn.com
SUMMARY:EXTENDED OFFICE HOURS
DESCRIPTION:The office will be open today from 9a – 12p for Beach Passes. \nRemember\, if you are a tenant\, you will need to bring documentation (either a valid lease or Letter from the Homeowner stating that you are a current tenant for the year 2018).
URL:https://seagatebrooklyn.com/event/extended-office-hours-3/
END:VEVENT
BEGIN:VEVENT
DTSTART;VALUE=DATE:20180507
DTEND;VALUE=DATE:20180519
DTSTAMP:20260420T020430
CREATED:20180430T125715Z
LAST-MODIFIED:20180507T140347Z
UID:1163-1525651200-1526687999@seagatebrooklyn.com
SUMMARY:SEWER REPAIR - 3800 Block Maple Ave
DESCRIPTION:Beginning May 7th\, and ending around May 18th\, the Sea Gate Association in coordination with our Plumbing Company will be performing necessary Sewer Repairs along the 3800 Block of Maple Ave. This work will take place on all of Maple Ave to the intersection at Sea Gate Ave. Parking and vehicular access to residences will be affected. We will do everything possible to make the process as smooth as possible\, but please be patient.
URL:https://seagatebrooklyn.com/event/sewer-repair-3800-block-maple-ave/
END:VEVENT
BEGIN:VEVENT
DTSTART;TZID=UTC:20180506T090000
DTEND;TZID=UTC:20180506T170000
DTSTAMP:20260420T020430
CREATED:20180326T163530Z
LAST-MODIFIED:20180326T163530Z
UID:1111-1525597200-1525626000@seagatebrooklyn.com
SUMMARY:SPRING FESTIVAL 9A - 5P
DESCRIPTION:
URL:https://seagatebrooklyn.com/event/spring-festival-9a-5p/
END:VEVENT
BEGIN:VEVENT
DTSTART;TZID=UTC:20180506T090000
DTEND;TZID=UTC:20180506T120000
DTSTAMP:20260420T020430
CREATED:20180326T163943Z
LAST-MODIFIED:20180326T163943Z
UID:1117-1525597200-1525608000@seagatebrooklyn.com
SUMMARY:EXTENDED OFFICE HOURS
DESCRIPTION:The office will be open today from 9a – 12p for Beach Passes. \nRemember\, if you are a tenant\, you will need to bring documentation (either a valid lease or Letter from the Homeowner stating that you are a current tenant for the year 2018).
URL:https://seagatebrooklyn.com/event/extended-office-hours/
END:VEVENT
BEGIN:VEVENT
DTSTART;TZID=UTC:20180505T090000
DTEND;TZID=UTC:20180505T120000
DTSTAMP:20260420T020430
CREATED:20180326T164331Z
LAST-MODIFIED:20180326T164331Z
UID:1119-1525510800-1525521600@seagatebrooklyn.com
SUMMARY:EXTENDED OFFICE HOURS
DESCRIPTION:The office will be open today from 9a – 12p for Beach Passes. \nRemember\, if you are a tenant\, you will need to bring documentation (either a valid lease or Letter from the Homeowner stating that you are a current tenant for the year 2018).
URL:https://seagatebrooklyn.com/event/extended-office-hours-2/
END:VEVENT
BEGIN:VEVENT
DTSTART;TZID=UTC:20180423T193000
DTEND;TZID=UTC:20180423T213000
DTSTAMP:20260420T020430
CREATED:20180328T191001Z
LAST-MODIFIED:20180328T191001Z
UID:1153-1524511800-1524519000@seagatebrooklyn.com
SUMMARY:COMMUNITY MEETING FOR HOMEOWNERS 7:30P
DESCRIPTION:To All Homeowners: \nPlease join us on Monday\, April 23\, 2018 at 7:30p for a Community Meeting at Nova Athletics 3701 Surf Avenue. \n 
URL:https://seagatebrooklyn.com/event/community-meeting-for-homeowners-730p/
END:VEVENT
BEGIN:VEVENT
DTSTART;TZID=UTC:20180406T090000
DTEND;TZID=UTC:20180406T140000
DTSTAMP:20260420T020430
CREATED:20180326T165607Z
LAST-MODIFIED:20180326T165607Z
UID:1142-1523005200-1523023200@seagatebrooklyn.com
SUMMARY:FINAL BID PACKAGES DUE
DESCRIPTION:Streetscape Final Bid packages will be due today\, no later than 2pm. All Bids must be sealed and delivered to the Sea Gate Association office located at 3700 Surf Avenue\, Brooklyn\, NY 11224.
URL:https://seagatebrooklyn.com/event/final-bid-packages-due/
END:VEVENT
BEGIN:VEVENT
DTSTART;TZID=UTC:20180328T100000
DTEND;TZID=UTC:20180328T140000
DTSTAMP:20260420T020430
CREATED:20180321T124731Z
LAST-MODIFIED:20180326T165216Z
UID:1108-1522231200-1522245600@seagatebrooklyn.com
SUMMARY:NEW: STREETSCAPE PRE-BID MEETING
DESCRIPTION:Due to inclement weather\, last week’s Streetscape Pre-bid Meeting has been rescheduled to today\, March 28th at 10am at The Nova Athletic Center. \nIf you have not requested a bid package\, please contact joannac@sgany.org to obtain one. \n  \nTHE SEA GATE ASSOCIATION\nNOTICE TO BIDDERS\nSealed bids will be received on Friday\, April 6\, 2018\, by The Sea Gate Association\, at 3700 Surf Avenue\, Brooklyn\, New York 11224 until 2:00 p. m\, and The Association shall\, at that time and place\, publicly open bids and read them aloud.\nBid documents may be examined free of charge at The Sea Gate Association office located at 3700 Surf Avenue\, Brooklyn\, New York 11224. A copy of the bid documents may be obtained in person or by mail from the Sea Gate Association upon payment of $49.00 per set and any associated shipping and handling costs. Checks are to made payable to The Sea Gate Association. The Association’s telephone number is (718) 449-4700.\nEach bid shall be either hand delivered by the bidder or his agent\, or such bid shall be sent by U. S. Postal Service registered or certified mail with a return receipt requested. Each bid must be prepared and submitted in accordance with the Instructions to Bidders and must be accompanied by Bid Security in the form of a certified check\, bank check\, or bid bond in the amount of five percent (5%) of the total amount of the bid.\nThe mailing address for the submission of bids is:\nThe Sea Gate Association\n3700 Surf Avenue\nBrooklyn\, New York 11224\nNo bid received after the scheduled time for opening will be considered. Failure of the U. S. Postal Service to deliver the bids timely shall not be considered due cause for the scheduled time of the bid opening to be extended.\nProject Name: Community Streetscape Enhancements\nProject Description: The Sea Gate Association is seeking to improve the community by planting street trees\, new landscape along Surf Avenue near the main entrance\, installation of an accessible walkway from Beach 49th and Beach 50th Streets to the Lindy Park Playground and new pavement and safety surfacing at Surf Avenue (Dave Sevush) Playground for which landscape architectural and engineering design has been completed.\nThis project is being financed with U.S. Department of Housing and Urban Development (“HUD”) Community Development Block Grant-Disaster Recovery (“CDBG-DR”) funds administered by the NYS Governor’s Office of Storm Recovery (“GOSR”). Attention of bidders is particularly called to Section 3 requirements\, M/WBE goals\, Federal labor standards\, Federal and State prevailing wage rates\, online reporting requirements using Elation System\, Inc. and other requirements included in the GOSR Supplementary Conditions for Contracts. See Instructions to Bidders for additional information.\nInterested parties are invited to secure a Bid Document package from JoAnna Crowe\, Community Manager\, The Sea Gate Association\, 3700 Surf Avenue\, Brooklyn\, New York 11224. Her telephone number is (718) 449-4700. Her email address is joannac@sgany.org\nA non-mandatory Pre-Bid Conference will be held on Wednesday\, March 28\, 2018 at 10:00 a.m. at the Nova Athletic Club\, 3701 Surf Avenue\, Brooklyn\, New York 11224.\nThe Sea Gate Association reserves the right to reject any and all bids in accordance with NYS Bid Law.\nThe Sea Gate Association is an Equal Opportunity Employer and encourages all small and minority-owned firms and women’s business enterprises to participate in the bidding process. Persons requiring reasonable accommodation to participate in the bidding process are requested to contact JoAnna Crowe at least five (5) days prior to the scheduled bid opening to discuss their particular needs.
URL:https://seagatebrooklyn.com/event/new-streetscape-pre-bid-meeting/
LOCATION:Nova Athletic Center\, 3701 Surf Avenue\, Brooklyn\, NY\, 11224\, United States
END:VEVENT
BEGIN:VEVENT
DTSTART;TZID=UTC:20180321T100000
DTEND;TZID=UTC:20180321T170000
DTSTAMP:20260420T020430
CREATED:20180321T124214Z
LAST-MODIFIED:20180321T124214Z
UID:1106-1521626400-1521651600@seagatebrooklyn.com
SUMMARY:STREETSCAPE PRE-BID MEETING RESCHEDULED
DESCRIPTION:
URL:https://seagatebrooklyn.com/event/streetscape-pre-bid-meeting-rescheduled/
END:VEVENT
BEGIN:VEVENT
DTSTART;VALUE=DATE:20180321
DTEND;VALUE=DATE:20180322
DTSTAMP:20260420T020430
CREATED:20180321T124101Z
LAST-MODIFIED:20180321T124101Z
UID:1104-1521590400-1521676799@seagatebrooklyn.com
SUMMARY:Winter Storm Warning
DESCRIPTION:Due to inclement weather\, the office may close early. In the case of emergency please call Sea Gate Police at (718)449-4400. If a non-emergency\, you may email info@sgany.org and someone will get back to you as soon as possible. \nBest Regards and Stay Warm!
URL:https://seagatebrooklyn.com/event/winter-storm-warning/
END:VEVENT
BEGIN:VEVENT
DTSTART;VALUE=DATE:20180219
DTEND;VALUE=DATE:20180220
DTSTAMP:20260420T020430
CREATED:20180202T205921Z
LAST-MODIFIED:20180202T205921Z
UID:1101-1518998400-1519084799@seagatebrooklyn.com
SUMMARY:OFFICE CLOSE - PRESIDENT'S DAY
DESCRIPTION:
URL:https://seagatebrooklyn.com/event/office-close-presidents-day/
END:VEVENT
BEGIN:VEVENT
DTSTART;TZID=UTC:20180213T160000
DTEND;TZID=UTC:20180213T180000
DTSTAMP:20260420T020430
CREATED:20180202T205845Z
LAST-MODIFIED:20180202T205845Z
UID:1098-1518537600-1518544800@seagatebrooklyn.com
SUMMARY:PROPERTY VALUE SESSION 4P
DESCRIPTION:
URL:https://seagatebrooklyn.com/event/property-value-session-4p/
LOCATION:Health Essential Association\, 2336 86th Street\, Brooklyn\, 11214\, United States
END:VEVENT
BEGIN:VEVENT
DTSTART;VALUE=DATE:20180115
DTEND;VALUE=DATE:20180116
DTSTAMP:20260420T020430
CREATED:20180105T144225Z
LAST-MODIFIED:20180105T144225Z
UID:1090-1515974400-1516060799@seagatebrooklyn.com
SUMMARY:OFFICE CLOSED - MARTIN LUTHER KING JR DAY
DESCRIPTION:
URL:https://seagatebrooklyn.com/event/office-closed-martin-luther-king-jr-day/
END:VEVENT
BEGIN:VEVENT
DTSTART;VALUE=DATE:20171225
DTEND;VALUE=DATE:20171226
DTSTAMP:20260420T020430
CREATED:20171117T162537Z
LAST-MODIFIED:20171117T162537Z
UID:1064-1514160000-1514246399@seagatebrooklyn.com
SUMMARY:OFFICE CLOSED - CHRISTMAS DAY
DESCRIPTION:
URL:https://seagatebrooklyn.com/event/office-closed-christmas-day/
END:VEVENT
BEGIN:VEVENT
DTSTART;TZID=UTC:20171221T090000
DTEND;TZID=UTC:20171221T150000
DTSTAMP:20260420T020430
CREATED:20171204T184244Z
LAST-MODIFIED:20171204T184244Z
UID:1075-1513846800-1513868400@seagatebrooklyn.com
SUMMARY:ADJUSTED OFFICE HOURS: 9A-3P
DESCRIPTION:The Office will have adjusted office hours for Thursday\, December 21\, 2017. \nOffice will open at 9am as usual\, but will stay open until 3pm.
URL:https://seagatebrooklyn.com/event/adjusted-office-hours-9a-3p/
END:VEVENT
BEGIN:VEVENT
DTSTART;TZID=UTC:20171214T173000
DTEND;TZID=UTC:20171214T183000
DTSTAMP:20260420T020430
CREATED:20171205T194323Z
LAST-MODIFIED:20171205T194323Z
UID:1079-1513272600-1513276200@seagatebrooklyn.com
SUMMARY:Sea Gate Association Holiday Festival 5:30pm
DESCRIPTION:
URL:https://seagatebrooklyn.com/event/sea-gate-association-holiday-festival-530pm/
END:VEVENT
BEGIN:VEVENT
DTSTART;TZID=UTC:20171211T150000
DTEND;TZID=UTC:20171211T180000
DTSTAMP:20260420T020430
CREATED:20171207T205432Z
LAST-MODIFIED:20171207T205432Z
UID:1083-1513004400-1513015200@seagatebrooklyn.com
SUMMARY:Housing Fair 3PM - 6PM
DESCRIPTION:
URL:https://seagatebrooklyn.com/event/housing-fair-3pm-6pm/
LOCATION:2015 Stillwell Ave\, Brooklyn NY 11223\, 2015 Stillwell Ave\, Brooklyn\, NY\, 11223\, United States
END:VEVENT
BEGIN:VEVENT
DTSTART;TZID=UTC:20171207T200000
DTEND;TZID=UTC:20171207T210000
DTSTAMP:20260420T020430
CREATED:20171117T162717Z
LAST-MODIFIED:20171117T162717Z
UID:1066-1512676800-1512680400@seagatebrooklyn.com
SUMMARY:8p - Budget Meeting (Homeowners)
DESCRIPTION:*Please contact the office or check your mail for information regarding the Budget Meeting. We hope to see you there.
URL:https://seagatebrooklyn.com/event/8p-budget-meeting-homeowners/
END:VEVENT
BEGIN:VEVENT
DTSTART;TZID=UTC:20171124T100000
DTEND;TZID=UTC:20171124T170000
DTSTAMP:20260420T020430
CREATED:20171121T204224Z
LAST-MODIFIED:20171121T204224Z
UID:1072-1511517600-1511542800@seagatebrooklyn.com
SUMMARY:Office Hours 11/24/17: 10a - 5p
DESCRIPTION:The Office will be open beginning 10am on Friday\, November 24\, 2017\, and open until 5pm (closed for lunch 1p-2p).
URL:https://seagatebrooklyn.com/event/office-hours-112417-10a-5p/
END:VEVENT
BEGIN:VEVENT
DTSTART;VALUE=DATE:20171123
DTEND;VALUE=DATE:20171124
DTSTAMP:20260420T020430
CREATED:20170724T195216Z
LAST-MODIFIED:20170724T195216Z
UID:935-1511395200-1511481599@seagatebrooklyn.com
SUMMARY:Office Closed - Thanksgiving Day
DESCRIPTION:
URL:https://seagatebrooklyn.com/event/office-closed-thanksgiving-day/
END:VEVENT
BEGIN:VEVENT
DTSTART;TZID=UTC:20171122T090000
DTEND;TZID=UTC:20171122T140000
DTSTAMP:20260420T020430
CREATED:20171121T175124Z
LAST-MODIFIED:20171121T203948Z
UID:1069-1511341200-1511359200@seagatebrooklyn.com
SUMMARY:Office Hours 9a - 2p
DESCRIPTION:The Sea Gate Association will be open Wednesday\, November 22 from 9a to 2p. We will be closed from 2p until Friday at 10a (closed for Thanksgiving).
URL:https://seagatebrooklyn.com/event/office-hours-9a-2p/
END:VEVENT
BEGIN:VEVENT
DTSTART;VALUE=DATE:20171110
DTEND;VALUE=DATE:20171111
DTSTAMP:20260420T020430
CREATED:20171030T160115Z
LAST-MODIFIED:20171030T160115Z
UID:1058-1510272000-1510358399@seagatebrooklyn.com
SUMMARY:Office Closed - Veterans Day observance
DESCRIPTION:The Sea Gate Association office will be closed on November 10\, 2017 in observance of Veterans Day. If there is an emergency\, please contact the Sea Gate Police Department at (718)449-4400. For all other inquiries\, you may send an email to info@sgany.org.
URL:https://seagatebrooklyn.com/event/office-closed-veterans-day-observance/
END:VEVENT
BEGIN:VEVENT
DTSTART;VALUE=DATE:20171107
DTEND;VALUE=DATE:20171108
DTSTAMP:20260420T020430
CREATED:20171030T144511Z
LAST-MODIFIED:20171030T144511Z
UID:1055-1510012800-1510099199@seagatebrooklyn.com
SUMMARY:ELECTION DAY 2017!
DESCRIPTION:SEA GATE RESIDENTS – DON’T FORGET TO VOTE! \nVOTING SITE: PS 188 3314 NEPTUNE AVE
URL:https://seagatebrooklyn.com/event/election-day-2017/
LOCATION:PS 188 MICHAEL E BERDY\, 3314 NEPTUNE AVE\, BROOKLYN\, NY\, 11224\, United States
END:VEVENT
BEGIN:VEVENT
DTSTART;TZID=UTC:20171028T100000
DTEND;TZID=UTC:20171028T150000
DTSTAMP:20260420T020430
CREATED:20171027T181958Z
LAST-MODIFIED:20171027T181958Z
UID:1046-1509184800-1509202800@seagatebrooklyn.com
SUMMARY:HALLOWEEN PARADE @ MCU PARK
DESCRIPTION:8TH ANNUAL CHILDREN’S HALLOWEEN PARADE \nPRESENTED BY COUNCIL MEMBER MARK TREYGER\, STATE SENATOR DIANE SAVINO\, ASSEMBLY MEMBER PAMELA HARRIS & THE ALLIANCE FOR CONEY ISLAND \nSAT.\, OCTOBER 28TH – MCU PARK “BACKYARD” 1904 SURF AVE – FESTIVITIES @ 10AM / PARADE @ 1:30PM \nMUSIC\, ENTERTAINMENT\, PRIZES AND MORE!
URL:https://seagatebrooklyn.com/event/halloween-parade-mcu-park/
END:VEVENT
END:VCALENDAR