BEGIN:VCALENDAR
VERSION:2.0
PRODID:-//Sea Gate - ECPv6.15.11//NONSGML v1.0//EN
CALSCALE:GREGORIAN
METHOD:PUBLISH
X-ORIGINAL-URL:https://seagatebrooklyn.com
X-WR-CALDESC:Events for Sea Gate
REFRESH-INTERVAL;VALUE=DURATION:PT1H
X-Robots-Tag:noindex
X-PUBLISHED-TTL:PT1H
BEGIN:VTIMEZONE
TZID:UTC
BEGIN:STANDARD
TZOFFSETFROM:+0000
TZOFFSETTO:+0000
TZNAME:UTC
DTSTART:20160101T000000
END:STANDARD
END:VTIMEZONE
BEGIN:VEVENT
DTSTART;TZID=UTC:20171009T090000
DTEND;TZID=UTC:20171009T130000
DTSTAMP:20260420T071600
CREATED:20170724T195035Z
LAST-MODIFIED:20171004T125217Z
UID:933-1507539600-1507554000@seagatebrooklyn.com
SUMMARY:Columbus Day - Office Open (restricted hours)
DESCRIPTION:The office will remain open for vehicle access key renewals ONLY. We will open at 9a and be open until 1p. \nPlease make sure you bring everything with you to make the process as efficient as possible. \nIf you are a tenant\, you must bring IN WRITING either your lease or a letter from the homeowner allowing for the renewal. \nIf the vehicle is NOT registered to you\, please bring a copy of the vehicle owners license along with a letter stating that you have been authorized by the vehicle owner to operate the vehicle. \nIf the vehicle is registered to a company\, you must connect yourself to the vehicle by either insurance\, business card\, pay stub or a letter from that company providing you authorization to operate. \nIf you come unprepared you will ask to come back when you have all documents.
URL:https://seagatebrooklyn.com/event/office-closed-columbus-day/
END:VEVENT
BEGIN:VEVENT
DTSTART;TZID=UTC:20170924T090000
DTEND;TZID=UTC:20170929T170000
DTSTAMP:20260420T071600
CREATED:20170731T135757Z
LAST-MODIFIED:20170731T141117Z
UID:960-1506243600-1506704400@seagatebrooklyn.com
SUMMARY:VEHICLE ACCESS KEY & PARKING STICKER RENEWALS
DESCRIPTION:2017/2018 Vehicle Access & Parking Sticker Renewals September 24th through September 30th for the following streets: \n\nPoplar Avenue\nAll Beach Streets\n\nWe request that you please stick to the renewal schedule to prevent overcrowding. We will be open for renewals Monday through Friday 9a-5p (closed 1-2p) and Saturdays & Sundays from 9a-12p. \nPLEASE REMEMBER: OVERNIGHT PARKING STICKERS WILL EXPIRE ON SEPTEMBER 30\, 2017. FAILING TO RENEW MAY RESULT IN A PARKING SUMMONS BEGINNING OCTOBER 1\, 2017! \nIf you are a tenant\, you will need either a current lease or letter from the homeowner acknowledging your tenancy. If you are a landlord\, please provide this to your tenants. \n*Current License & Registration required for all. Call office for any questions at (718)449-4700.
URL:https://seagatebrooklyn.com/event/vehicle-access-key-parking-sticker-renewals/
END:VEVENT
BEGIN:VEVENT
DTSTART;TZID=UTC:20170922T070000
DTEND;TZID=UTC:20170922T190000
DTSTAMP:20260420T071600
CREATED:20170921T140214Z
LAST-MODIFIED:20170921T140214Z
UID:1006-1506063600-1506106800@seagatebrooklyn.com
SUMMARY:NEPTUNE ENTRANCE CLOSED FOR NATIONAL GRID WORK 9/22
DESCRIPTION:THE NEPTUNE VEHICLE ENTRANCE LANE & PEDESTRIAN ACCESS ON THE NORTHSIDE WILL BE CLOSED FRIDAY\, 9/22 FOR NATIONAL GRID REPAIRS.  \nPEDESTRIANS MAY UTILIZE THE NEW SOUTHSIDE TURNSTILE TO OBTAIN ACCESS INTO SEA GATE AND EXIT THE COMMUNITY.  \nTHERE WILL BE NO PEDESTRIAN ACCESS ALLOWED ON THE NORTHSIDE. *AN OFFICER WILL MAN THE HANDICAP DOOR ON THE SOUTHSIDE FOR THOSE RESIDENTS THAT NEED IT.  \nVEHICLES MAY EXIT AT NEPTUNE ONLY. ALL VEHICLES MUST ENTER ONLY AT SURF AVENUE.  \n*WORK MAY POSSIBLY CONTINUE THROUGH SATURDAY – EVENT WILL BE UPDATED IF SO
URL:https://seagatebrooklyn.com/event/neptune-entrance-closed-for-national-grid-work-922/
END:VEVENT
BEGIN:VEVENT
DTSTART;TZID=UTC:20170918T200000
DTEND;TZID=UTC:20170918T210000
DTSTAMP:20260420T071600
CREATED:20170915T155834Z
LAST-MODIFIED:20170915T155834Z
UID:1003-1505764800-1505768400@seagatebrooklyn.com
SUMMARY:ANNUAL HOMEOWNERS MEETING
DESCRIPTION:Please join us at the Annual Meeting Monday\, September 18th @ 8:15pm. \nThe meeting will be held at Nova Athletic Center located at 3701 Surf Avenue\, Brooklyn\, NY 11224.
URL:https://seagatebrooklyn.com/event/annual-homeowners-meeting/
END:VEVENT
BEGIN:VEVENT
DTSTART;TZID=UTC:20170917T090000
DTEND;TZID=UTC:20170924T170000
DTSTAMP:20260420T071600
CREATED:20170724T182027Z
LAST-MODIFIED:20170731T140941Z
UID:926-1505638800-1506272400@seagatebrooklyn.com
SUMMARY:VEHICLE ACCESS KEY & PARKING STICKER RENEWALS
DESCRIPTION:2017/2018 Vehicle Access & Parking Sticker Renewals September 17th through September 24th for the following streets: \n\nMermaid Avenue\nNautilus  Avenue\nNeptune Avenue\nOceanic Avenue\nSea Gate Avenue\nSurf Avenue\n\nWe request that you please stick to the renewal schedule to prevent overcrowding. We will be open for renewals Monday through Friday 9a-5p (closed 1-2p) and Saturdays & Sundays from 9a-12p. \nPLEASE REMEMBER: OVERNIGHT PARKING STICKERS WILL EXPIRE ON SEPTEMBER 30\, 2017. FAILING TO RENEW MAY RESULT IN A PARKING SUMMONS BEGINNING OCTOBER 1\, 2017! \nIf you are a tenant\, you will need either a current lease or letter from the homeowner acknowledging your tenancy. If you are a landlord\, please provide this to your tenants. \n*Current License & Registration required for all. Call office for any questions at (718)449-4700.
URL:https://seagatebrooklyn.com/event/926/
END:VEVENT
BEGIN:VEVENT
DTSTART;TZID=UTC:20170905T090000
DTEND;TZID=UTC:20170916T170000
DTSTAMP:20260420T071600
CREATED:20170724T181612Z
LAST-MODIFIED:20170731T140907Z
UID:922-1504602000-1505581200@seagatebrooklyn.com
SUMMARY:VEHICLE ACCESS KEY & PARKING STICKER RENEWALS
DESCRIPTION:2017/2018 Vehicle Access & Parking Sticker Renewals September 5th through September 16th for the following streets: \n\nAtlantic Avenue\nCypress Avenue\nHighland Avenue\nLaurel Avenue\nLyme Avenue\nManhattan Avenue\nMaple Avenue\nOceanview Avenue\nTudor Terrace\n\nWe request that you please stick to the renewal schedule to prevent overcrowding. We will be open for renewals Monday through Friday 9a-5p (closed 1-2p) and Saturdays & Sundays from 9a-12p. \nPLEASE REMEMBER: OVERNIGHT PARKING STICKERS WILL EXPIRE ON SEPTEMBER 30\, 2017. FAILING TO RENEW MAY RESULT IN A PARKING SUMMONS BEGINNING OCTOBER 1\, 2017! \nIf you are a tenant\, you will need either a current lease or letter from the homeowner acknowledging your tenancy. If you are a landlord\, please provide this to your tenants. \n*Current License & Registration required for all. Call office for any questions at (718)449-4700.
URL:https://seagatebrooklyn.com/event/vehicle-access-key-parking-sticker-renewals-begin/
END:VEVENT
BEGIN:VEVENT
DTSTART;VALUE=DATE:20170904
DTEND;VALUE=DATE:20170905
DTSTAMP:20260420T071600
CREATED:20170724T194751Z
LAST-MODIFIED:20170724T194803Z
UID:931-1504483200-1504569599@seagatebrooklyn.com
SUMMARY:Office Closed - Labor Day
DESCRIPTION:
URL:https://seagatebrooklyn.com/event/office-closed-labor-day/
END:VEVENT
BEGIN:VEVENT
DTSTART;TZID=UTC:20170829T210000
DTEND;TZID=UTC:20170830T060000
DTSTAMP:20260420T071600
CREATED:20170803T193421Z
LAST-MODIFIED:20170803T193421Z
UID:996-1504040400-1504072800@seagatebrooklyn.com
SUMMARY:ALERT - SEA GATE TO BE SPRAYED FOR MOSQUITOES
DESCRIPTION:Please be aware that New York City will be spraying the area for mosquitoes on August 29th. \nPlease see the following website for any updated information. and instructions: \nhttp://www1.nyc.gov/site/doh/health/health-topics/west-nile-virus-spray.page
URL:https://seagatebrooklyn.com/event/alert-sea-gate-to-be-sprayed-for-mosquitoes/
END:VEVENT
BEGIN:VEVENT
DTSTART;TZID=UTC:20170824T180000
DTEND;TZID=UTC:20170824T193000
DTSTAMP:20260420T071600
CREATED:20170814T181435Z
LAST-MODIFIED:20170814T183255Z
UID:998-1503597600-1503603000@seagatebrooklyn.com
SUMMARY:MAYOR DEBLASIO HOSTING TOWN HALL AT CONEY ISLAND YMCA 6PM
DESCRIPTION:Mayor DeBlasio CM Treyger Town Hall Flyerv3 will be hosting a town hall with Councilman Treyger on Thursday August 24. Please see attached flyer and distribute it to everyone in  Sea Gate. \nTown Halls are a good opportunity to ask the Mayor questions and get your issue addressed by the Mayor or Commissioners from City agencies. \nRSVP is required. RSVP to TOWNHALLRSVP@CITYHALL.NYC.GOV  or (212)788-7929. \nSPACE IS LIMITED!!
URL:https://seagatebrooklyn.com/event/mayor-deblasio-hosting-town-hall-at-coney-island-ymca-6pm/
END:VEVENT
BEGIN:VEVENT
DTSTART;TZID=UTC:20170801T090000
DTEND;TZID=UTC:20170901T170000
DTSTAMP:20260420T071600
CREATED:20170724T194632Z
LAST-MODIFIED:20170724T194733Z
UID:929-1501578000-1504285200@seagatebrooklyn.com
SUMMARY:Beach Passes 1/2 Price!
DESCRIPTION:Attention All Sea Gate Residents: \nSeason Beach Passes will be half price beginning today \nHomeowner: $17 child / $22 adult \nTenant: $25 child/ $35 adult \n*Packages may not be purchased at this time. Daily bracelets will remain the same price. \nSeason ends Monday\, September 4th
URL:https://seagatebrooklyn.com/event/beach-passes-12-price/
END:VEVENT
END:VCALENDAR